BEGIN:VCALENDAR
VERSION:2.0
PRODID:-//Knopspublishing - ECPv6.15.12.2//NONSGML v1.0//EN
CALSCALE:GREGORIAN
METHOD:PUBLISH
X-WR-CALNAME:Knopspublishing
X-ORIGINAL-URL:https://staging.knopspublishing.be
X-WR-CALDESC:Evenementen voor Knopspublishing
REFRESH-INTERVAL;VALUE=DURATION:PT1H
X-Robots-Tag:noindex
X-PUBLISHED-TTL:PT1H
BEGIN:VTIMEZONE
TZID:Europe/Brussels
BEGIN:DAYLIGHT
TZOFFSETFROM:+0100
TZOFFSETTO:+0200
TZNAME:CEST
DTSTART:20240331T010000
END:DAYLIGHT
BEGIN:STANDARD
TZOFFSETFROM:+0200
TZOFFSETTO:+0100
TZNAME:CET
DTSTART:20241027T010000
END:STANDARD
BEGIN:DAYLIGHT
TZOFFSETFROM:+0100
TZOFFSETTO:+0200
TZNAME:CEST
DTSTART:20250330T010000
END:DAYLIGHT
BEGIN:STANDARD
TZOFFSETFROM:+0200
TZOFFSETTO:+0100
TZNAME:CET
DTSTART:20251026T010000
END:STANDARD
BEGIN:DAYLIGHT
TZOFFSETFROM:+0100
TZOFFSETTO:+0200
TZNAME:CEST
DTSTART:20260329T010000
END:DAYLIGHT
BEGIN:STANDARD
TZOFFSETFROM:+0200
TZOFFSETTO:+0100
TZNAME:CET
DTSTART:20261025T010000
END:STANDARD
END:VTIMEZONE
BEGIN:VEVENT
DTSTART;TZID=Europe/Brussels:20251211T124500
DTEND;TZID=Europe/Brussels:20251211T180000
DTSTAMP:20260424T052815
CREATED:20250828T082203Z
LAST-MODIFIED:20251204T131819Z
UID:10000077-1765457100-1765476000@staging.knopspublishing.be
SUMMARY:Aanwasbedingen in 20 vragen en antwoorden
DESCRIPTION:Opleiding enkel toegankelijk voor (kandidaat-)notarissen\, stagiairs en notariële medewerkers \nAanwasbedingen worden dagelijks gebruikt in de notariële praktijk. Toch blijven er nog veel vragen onbeantwoord en stelt menig notaris en notarieel medewerker zich de vraag welke bedingen nu best gebruikt worden in een concrete situatie. \nNotaris Dirk Michiels heeft naast een tweetalige monografie over dit onderwerp talrijke wetenschappelijke bijdragen gepubliceerd. De clausules op het e-notariaat van zijn hand worden door de meeste notarissen gebruikt. Hij zal tijdens dit seminarie 20 vragen beantwoorden\, u de weg wijzen naar een correct gebruik en hoeden voor de addertjes onder het gras. \nSpreker:\nDirk Michiels\, notaris te Aarschot\, gastdocent KU Leuven\, voorzitter CSW \nU krijgt heldere antwoorden op de volgende 20 vragen: \n\nWaarom wordt de klassieke tontine niet meer gebruikt en hoe geraakt men ervan verlost?\nWie komt (niet) in aanmerking voor het beding van aanwas?\nWelke beëindigingsmogelijkheden kan men best contractueel inbouwen?\nWat heeft het nieuwe erfrecht gewijzigd in de toepassingsmogelijkheden?\nHoe behandelt de fiscus aanwasbedingen in de 3 gewesten?\nAanwasbedingen en vermogensplanning: wat is er (niet) mogelijk?\nIs aanwas van roerende en onroerende goederen in 1 akte mogelijk?\nHoe groot mag het leeftijdsverschil zijn tussen de partners?\nIs een aanwasbeding mogelijk bij ongelijke investeringen?\nWaarop moet men letten bij aanwasbedingen tussen echtgenoten?\nWelke zijn de aandachtspunten bij aanwas voor roerende goederen?\nIs een aanwasbeding mogelijk op voorwaarde van overlijden zonder kinderen?\nWanneer gebruiken we optionele aanwasbedingen beter niet?\nWat is het standpunt van Vlabel en van de Fod Financiën?\nWat is het verschil tussen optionele en voorwaardelijke aanwasbedingen?\nBehoort het nazicht van oude aanwasbedingen tot het titelonderzoek van de notaris?\nVragen bij beëindiging: onderhands / notarieel\, woonstvergoeding\, voorkooprecht\, …?\nDe vierde piste: een alternatief voor aanwasbedingen bij gehuwden?\nIs een combinatie van aanwasbedingen en keuzebedingen in het huwelijkscontract mogelijk?\nHoe ziet de toekomst eruit?\n\nProgrammaoverzicht \nErkenning permanente vorming voor notarissen en kandidaat-notarissen aangevraagd bij de Nationale Kamer van Notarissen voor 3\,5 u juridische punten. \n\nPrijs: € 367 excl. btw per deelnemer\nIk schrijf me in samen met collegae: € 343 excl. btw per deelnemer
URL:https://staging.knopspublishing.be/opleiding/aanwasbedingen-in-20-vragen-en-antwoorden/
CATEGORIES:Algemeen,Notaris,Opleidingen
ATTACH;FMTTYPE=image/jpeg:https://staging.knopspublishing.be/wp-content/uploads/2025/08/Opleidingen-website-Van-Geel.jpg
LOCATION:https://staging.knopspublishing.be/opleiding/aanwasbedingen-in-20-vragen-en-antwoorden/
END:VEVENT
BEGIN:VEVENT
DTSTART;TZID=Europe/Brussels:20251207T124500
DTEND;TZID=Europe/Brussels:20251207T180000
DTSTAMP:20260424T052815
CREATED:20250821T130916Z
LAST-MODIFIED:20250821T130916Z
UID:10000075-1765111500-1765130400@staging.knopspublishing.be
SUMMARY:Aanwasbedingen in 20 vragen en antwoorden
DESCRIPTION:Opleiding enkel toegankelijk voor (kandidaat-)notarissen\, stagiairs en notariële medewerkers \nAanwasbedingen worden dagelijks gebruikt in de notariële praktijk. Toch blijven er nog veel vragen onbeantwoord en stelt menig notaris en notarieel medewerker zich de vraag welke bedingen nu best gebruikt worden in een concrete situatie. \nNotaris Dirk Michiels heeft naast een tweetalige monografie over dit onderwerp talrijke wetenschappelijke bijdragen gepubliceerd. De clausules op het e-notariaat van zijn hand worden door de meeste notarissen gebruikt. Hij zal tijdens dit seminarie 20 vragen beantwoorden\, u de weg wijzen naar een correct gebruik en hoeden voor de addertjes onder het gras. \nSpreker:\nDirk Michiels\, notaris te Aarschot\, gastdocent KU Leuven\, voorzitter CSW \nU krijgt heldere antwoorden op de volgende 20 vragen: \n\nWaarom wordt de klassieke tontine niet meer gebruikt en hoe geraakt men ervan verlost?\nWie komt (niet) in aanmerking voor het beding van aanwas?\nWelke beëindigingsmogelijkheden kan men best contractueel inbouwen?\nWat heeft het nieuwe erfrecht gewijzigd in de toepassingsmogelijkheden?\nHoe behandelt de fiscus aanwasbedingen in de 3 gewesten?\nAanwasbedingen en vermogensplanning: wat is er (niet) mogelijk?\nIs aanwas van roerende en onroerende goederen in 1 akte mogelijk?\nHoe groot mag het leeftijdsverschil zijn tussen de partners?\nIs een aanwasbeding mogelijk bij ongelijke investeringen?\nWaarop moet men letten bij aanwasbedingen tussen echtgenoten?\nWelke zijn de aandachtspunten bij aanwas voor roerende goederen?\nIs een aanwasbeding mogelijk op voorwaarde van overlijden zonder kinderen?\nWanneer gebruiken we optionele aanwasbedingen beter niet?\nWat is het standpunt van Vlabel en van de Fod Financiën?\nWat is het verschil tussen optionele en voorwaardelijke aanwasbedingen?\nBehoort het nazicht van oude aanwasbedingen tot het titelonderzoek van de notaris?\nVragen bij beëindiging: onderhands / notarieel\, woonstvergoeding\, voorkooprecht\, …?\nDe vierde piste: een alternatief voor aanwasbedingen bij gehuwden?\nIs een combinatie van aanwasbedingen en keuzebedingen in het huwelijkscontract mogelijk?\nHoe ziet de toekomst eruit?\n\nProgrammaoverzicht \nErkenning permanente vorming voor notarissen en kandidaat-notarissen aangevraagd bij de Nationale Kamer van Notarissen voor 3\,5 u juridische punten. \n\nPrijs: € 367 excl. btw per deelnemer\nIk schrijf me in samen met collegae: € 343 excl. btw per deelnemer
URL:https://staging.knopspublishing.be/opleiding/aanwasbedingen-in-20-vragen-en-antwoorden-antwerpen-2-3/
LOCATION:Salons van Edel\, Terbekehofdreef 13\, Antwerpen\, 2610\, Belgium
CATEGORIES:Algemeen,Notaris,Opleidingen
ATTACH;FMTTYPE=image/jpeg:https://staging.knopspublishing.be/wp-content/uploads/2025/08/Opleidingen-website-Van-Geel.jpg
END:VEVENT
BEGIN:VEVENT
DTSTART;TZID=Europe/Brussels:20251207T124500
DTEND;TZID=Europe/Brussels:20251207T180000
DTSTAMP:20260424T052815
CREATED:20250821T130907Z
LAST-MODIFIED:20250821T130907Z
UID:10000076-1765111500-1765130400@staging.knopspublishing.be
SUMMARY:Aanwasbedingen in 20 vragen en antwoorden
DESCRIPTION:Opleiding enkel toegankelijk voor (kandidaat-)notarissen\, stagiairs en notariële medewerkers \nAanwasbedingen worden dagelijks gebruikt in de notariële praktijk. Toch blijven er nog veel vragen onbeantwoord en stelt menig notaris en notarieel medewerker zich de vraag welke bedingen nu best gebruikt worden in een concrete situatie. \nNotaris Dirk Michiels heeft naast een tweetalige monografie over dit onderwerp talrijke wetenschappelijke bijdragen gepubliceerd. De clausules op het e-notariaat van zijn hand worden door de meeste notarissen gebruikt. Hij zal tijdens dit seminarie 20 vragen beantwoorden\, u de weg wijzen naar een correct gebruik en hoeden voor de addertjes onder het gras. \nSpreker:\nDirk Michiels\, notaris te Aarschot\, gastdocent KU Leuven\, voorzitter CSW \nU krijgt heldere antwoorden op de volgende 20 vragen: \n\nWaarom wordt de klassieke tontine niet meer gebruikt en hoe geraakt men ervan verlost?\nWie komt (niet) in aanmerking voor het beding van aanwas?\nWelke beëindigingsmogelijkheden kan men best contractueel inbouwen?\nWat heeft het nieuwe erfrecht gewijzigd in de toepassingsmogelijkheden?\nHoe behandelt de fiscus aanwasbedingen in de 3 gewesten?\nAanwasbedingen en vermogensplanning: wat is er (niet) mogelijk?\nIs aanwas van roerende en onroerende goederen in 1 akte mogelijk?\nHoe groot mag het leeftijdsverschil zijn tussen de partners?\nIs een aanwasbeding mogelijk bij ongelijke investeringen?\nWaarop moet men letten bij aanwasbedingen tussen echtgenoten?\nWelke zijn de aandachtspunten bij aanwas voor roerende goederen?\nIs een aanwasbeding mogelijk op voorwaarde van overlijden zonder kinderen?\nWanneer gebruiken we optionele aanwasbedingen beter niet?\nWat is het standpunt van Vlabel en van de Fod Financiën?\nWat is het verschil tussen optionele en voorwaardelijke aanwasbedingen?\nBehoort het nazicht van oude aanwasbedingen tot het titelonderzoek van de notaris?\nVragen bij beëindiging: onderhands / notarieel\, woonstvergoeding\, voorkooprecht\, …?\nDe vierde piste: een alternatief voor aanwasbedingen bij gehuwden?\nIs een combinatie van aanwasbedingen en keuzebedingen in het huwelijkscontract mogelijk?\nHoe ziet de toekomst eruit?\n\nProgrammaoverzicht \nErkenning permanente vorming voor notarissen en kandidaat-notarissen aangevraagd bij de Nationale Kamer van Notarissen voor 3\,5 u juridische punten. \n\nPrijs: € 367 excl. btw per deelnemer\nIk schrijf me in samen met collegae: € 343 excl. btw per deelnemer
URL:https://staging.knopspublishing.be/opleiding/aanwasbedingen-in-20-vragen-en-antwoorden-antwerpen-2-2/
LOCATION:Salons van Edel\, Terbekehofdreef 13\, Antwerpen\, 2610\, Belgium
CATEGORIES:Algemeen,Notaris,Opleidingen
ATTACH;FMTTYPE=image/jpeg:https://staging.knopspublishing.be/wp-content/uploads/2025/08/Opleidingen-website-VDB.jpg
END:VEVENT
BEGIN:VEVENT
DTSTART;TZID=Europe/Brussels:20251207T124500
DTEND;TZID=Europe/Brussels:20251207T180000
DTSTAMP:20260424T052815
CREATED:20201221T115923Z
LAST-MODIFIED:20250828T082429Z
UID:10000070-1765111500-1765130400@staging.knopspublishing.be
SUMMARY:Aanwasbedingen in 20 vragen en antwoorden
DESCRIPTION:Opleiding enkel toegankelijk voor (kandidaat-)notarissen\, stagiairs en notariële medewerkers \nAanwasbedingen worden dagelijks gebruikt in de notariële praktijk. Toch blijven er nog veel vragen onbeantwoord en stelt menig notaris en notarieel medewerker zich de vraag welke bedingen nu best gebruikt worden in een concrete situatie. \nNotaris Dirk Michiels heeft naast een tweetalige monografie over dit onderwerp talrijke wetenschappelijke bijdragen gepubliceerd. De clausules op het e-notariaat van zijn hand worden door de meeste notarissen gebruikt. Hij zal tijdens dit seminarie 20 vragen beantwoorden\, u de weg wijzen naar een correct gebruik en hoeden voor de addertjes onder het gras. \nSpreker:\nDirk Michiels\, notaris te Aarschot\, gastdocent KU Leuven\, voorzitter CSW \nU krijgt heldere antwoorden op de volgende 20 vragen: \n\nWaarom wordt de klassieke tontine niet meer gebruikt en hoe geraakt men ervan verlost?\nWie komt (niet) in aanmerking voor het beding van aanwas?\nWelke beëindigingsmogelijkheden kan men best contractueel inbouwen?\nWat heeft het nieuwe erfrecht gewijzigd in de toepassingsmogelijkheden?\nHoe behandelt de fiscus aanwasbedingen in de 3 gewesten?\nAanwasbedingen en vermogensplanning: wat is er (niet) mogelijk?\nIs aanwas van roerende en onroerende goederen in 1 akte mogelijk?\nHoe groot mag het leeftijdsverschil zijn tussen de partners?\nIs een aanwasbeding mogelijk bij ongelijke investeringen?\nWaarop moet men letten bij aanwasbedingen tussen echtgenoten?\nWelke zijn de aandachtspunten bij aanwas voor roerende goederen?\nIs een aanwasbeding mogelijk op voorwaarde van overlijden zonder kinderen?\nWanneer gebruiken we optionele aanwasbedingen beter niet?\nWat is het standpunt van Vlabel en van de Fod Financiën?\nWat is het verschil tussen optionele en voorwaardelijke aanwasbedingen?\nBehoort het nazicht van oude aanwasbedingen tot het titelonderzoek van de notaris?\nVragen bij beëindiging: onderhands / notarieel\, woonstvergoeding\, voorkooprecht\, …?\nDe vierde piste: een alternatief voor aanwasbedingen bij gehuwden?\nIs een combinatie van aanwasbedingen en keuzebedingen in het huwelijkscontract mogelijk?\nHoe ziet de toekomst eruit?\n\nProgrammaoverzicht \nErkenning permanente vorming voor notarissen en kandidaat-notarissen aangevraagd bij de Nationale Kamer van Notarissen voor 3\,5 u juridische punten. \n\nPrijs: € 367 excl. btw per deelnemer\nIk schrijf me in samen met collegae: € 343 excl. btw per deelnemer
URL:https://staging.knopspublishing.be/opleiding/aanwasbedingen-in-20-vragen-en-antwoorden-antwerpen-2/
LOCATION:Salons van Edel\, Terbekehofdreef 13\, Antwerpen\, 2610\, Belgium
CATEGORIES:Algemeen,Notaris,Opleidingen
ATTACH;FMTTYPE=image/jpeg:https://staging.knopspublishing.be/wp-content/uploads/2020/12/Opleidingen-website-Sagaert.jpg
END:VEVENT
END:VCALENDAR